Workbook
Name A亞太地區: '[1]108年國外日支'!#REF!
Name 索引表: '[1]108年國外日支'!#REF!

Sheet 國外出差旅費結報單
B2: 國家資通安全研究院
B3: 國外出差旅費結報單
B4: 申請日期： | F4: 年 | H4: 月 | J4: 日 | T4: 所屬年度： | X4: 114 | Z4: 年
B5: 姓名 | H5: 職稱 | N5: 單位 | T5: 計畫 工項
B7: 出差事由
B8: 中華民國 | H8: 年 | J8: 月 | L8: 日起至 | P8: 年 | R8: 月 | T8: 日止共計 | Y8: 日
B9: 出差前一日賣出匯率幣別/匯率 | F9: USD | J9: NTD | N9: ='國外出差旅費核算明細表(含日支費)'!$F5 -> 0 | R9: ='國外出差旅費核算明細表(含日支費)'!$F6 -> 0 | V9: ='國外出差旅費核算明細表(含日支費)'!$I$4 -> 0
F10: ='國外出差旅費核算明細表(含日支費)'!$G$4 -> 0 | J10: 1 | N10: =IF(N$9='國外出差旅費核算明細表(含日支費)'!$F5,'國外出差旅費核算明細表(含日支費)'!$G5,"") -> 0 | R10: =IF(R$9='國外出差旅費核算明細表(含日支費)'!$F6,'國外出差旅費核算明細表(含日支費)'!$G6,"") -> 0 | V10: ='國外出差旅費核算明細表(含日支費)'!$J$4 -> 0
B11: 交通費 | C11: 飛機 | F11: =SUMIF('國外出差旅費核算明細表(含日支費)'!$L$53:$L$67,$C11&F$9,'國外出差旅費核算明細表(含日支費)'!$J$53:$J$67) -> 0 | J11: =SUMIF('國外出差旅費核算明細表(含日支費)'!$L$53:$L$67,$C11&J$9,'國外出差旅費核算明細表(含日支費)'!$J$53:$J$67) -> 0 | N11: =SUMIF('國外出差旅費核算明細表(含日支費)'!$L$53:$L$67,$C11&N$9,'國外出差旅費核算明細表(含日支費)'!$J$53:$J$67) -> 0 | R11: =SUMIF('國外出差旅費核算明細表(含日支費)'!$L$53:$L$67,$C11&R$9,'國外出差旅費核算明細表(含日支費)'!$J$53:$J$67) -> 0 | V11: =SUMIF('國外出差旅費核算明細表(含日支費)'!$L$53:$L$67,$C11&R$9,'國外出差旅費核算明細表(含日支費)'!$J$53:$J$67) -> 0
C12: 船舶 | F12: =SUMIF('國外出差旅費核算明細表(含日支費)'!$L$53:$L$67,$C12&F$9,'國外出差旅費核算明細表(含日支費)'!$J$53:$J$67) -> 0 | J12: =SUMIF('國外出差旅費核算明細表(含日支費)'!$L$53:$L$67,$C12&J$9,'國外出差旅費核算明細表(含日支費)'!$J$53:$J$67) -> 0 | N12: =SUMIF('國外出差旅費核算明細表(含日支費)'!$L$53:$L$67,$C12&N$9,'國外出差旅費核算明細表(含日支費)'!$J$53:$J$67) -> 0 | R12: =SUMIF('國外出差旅費核算明細表(含日支費)'!$L$53:$L$67,$C12&R$9,'國外出差旅費核算明細表(含日支費)'!$J$53:$J$67) -> 0 | V12: =SUMIF('國外出差旅費核算明細表(含日支費)'!$L$53:$L$67,$C12&R$9,'國外出差旅費核算明細表(含日支費)'!$J$53:$J$67) -> 0
C13: 長途大眾 交通工具 | F13: =SUMIF('國外出差旅費核算明細表(含日支費)'!$L$53:$L$67,$C13&F$9,'國外出差旅費核算明細表(含日支費)'!$J$53:$J$67) -> 0 | J13: =SUMIF('國外出差旅費核算明細表(含日支費)'!$L$53:$L$67,$C13&J$9,'國外出差旅費核算明細表(含日支費)'!$J$53:$J$67) -> 0 | N13: =SUMIF('國外出差旅費核算明細表(含日支費)'!$L$53:$L$67,$C13&N$9,'國外出差旅費核算明細表(含日支費)'!$J$53:$J$67) -> 0 | R13: =SUMIF('國外出差旅費核算明細表(含日支費)'!$L$53:$L$67,$C13&R$9,'國外出差旅費核算明細表(含日支費)'!$J$53:$J$67) -> 0
B14: 生活費 | C14: 住宿費70% | F14: ='國外出差旅費核算明細表(含日支費)'!$H$49 -> 0 | J14: =SUMIF('國外出差旅費核算明細表(含日支費)'!$L$53:$L$67,$C14&J$9,'國外出差旅費核算明細表(含日支費)'!$J$53:$J$67) -> 0 | N14: =SUMIF('國外出差旅費核算明細表(含日支費)'!$L$53:$L$67,$C14&N$9,'國外出差旅費核算明細表(含日支費)'!$J$53:$J$67) -> 0 | R14: =SUMIF('國外出差旅費核算明細表(含日支費)'!$L$53:$L$67,$C14&R$9,'國外出差旅費核算明細表(含日支費)'!$J$53:$J$67) -> 0 | V14: =SUMIF('國外出差旅費核算明細表(含日支費)'!$L$53:$L$67,$C14&V$9,'國外出差旅費核算明細表(含日支費)'!$J$53:$J$67) -> 0
C15: 膳食費20% | F15: ='國外出差旅費核算明細表(含日支費)'!$I$49 -> 0 | J15: =SUMIF('國外出差旅費核算明細表(含日支費)'!$L$53:$L$67,$C15&J$9,'國外出差旅費核算明細表(含日支費)'!$J$53:$J$67) -> 0 | N15: =SUMIF('國外出差旅費核算明細表(含日支費)'!$L$53:$L$67,$C15&N$9,'國外出差旅費核算明細表(含日支費)'!$J$53:$J$67) -> 0 | R15: =SUMIF('國外出差旅費核算明細表(含日支費)'!$L$53:$L$67,$C15&R$9,'國外出差旅費核算明細表(含日支費)'!$J$53:$J$67) -> 0 | V15: =SUMIF('國外出差旅費核算明細表(含日支費)'!$L$53:$L$67,$C15&V$9,'國外出差旅費核算明細表(含日支費)'!$J$53:$J$67) -> 0
C16: 零用費10% | F16: ='國外出差旅費核算明細表(含日支費)'!$J$49 -> 0 | J16: =SUMIF('國外出差旅費核算明細表(含日支費)'!$L$53:$L$67,$C16&J$9,'國外出差旅費核算明細表(含日支費)'!$J$53:$J$67) -> 0 | N16: =SUMIF('國外出差旅費核算明細表(含日支費)'!$L$53:$L$67,$C16&N$9,'國外出差旅費核算明細表(含日支費)'!$J$53:$J$67) -> 0 | R16: =SUMIF('國外出差旅費核算明細表(含日支費)'!$L$53:$L$67,$C16&R$9,'國外出差旅費核算明細表(含日支費)'!$J$53:$J$67) -> 0 | V16: =SUMIF('國外出差旅費核算明細表(含日支費)'!$L$53:$L$67,$C16&V$9,'國外出差旅費核算明細表(含日支費)'!$J$53:$J$67) -> 0
B17: 辦公費 | C17: 手續費 | F17: =SUMIF('國外出差旅費核算明細表(含日支費)'!$L$53:$L$67,$C17&F$9,'國外出差旅費核算明細表(含日支費)'!$J$53:$J$67) -> 0 | J17: =SUMIF('國外出差旅費核算明細表(含日支費)'!$L$53:$L$67,$C17&J$9,'國外出差旅費核算明細表(含日支費)'!$J$53:$J$67) -> 0 | N17: =SUMIF('國外出差旅費核算明細表(含日支費)'!$L$53:$L$67,$C17&N$9,'國外出差旅費核算明細表(含日支費)'!$J$53:$J$67) -> 0 | R17: =SUMIF('國外出差旅費核算明細表(含日支費)'!$L$53:$L$67,$C17&R$9,'國外出差旅費核算明細表(含日支費)'!$J$53:$J$67) -> 0 | V17: =SUMIF('國外出差旅費核算明細表(含日支費)'!$L$53:$L$67,$C17&V$9,'國外出差旅費核算明細表(含日支費)'!$J$53:$J$67) -> 0
C18: 保險費 | F18: =SUMIF('國外出差旅費核算明細表(含日支費)'!$L$53:$L$67,$C18&F$9,'國外出差旅費核算明細表(含日支費)'!$J$53:$J$67) -> 0 | J18: =SUMIF('國外出差旅費核算明細表(含日支費)'!$L$53:$L$67,$C18&J$9,'國外出差旅費核算明細表(含日支費)'!$J$53:$J$67) -> 0 | N18: =SUMIF('國外出差旅費核算明細表(含日支費)'!$L$53:$L$67,$C18&N$9,'國外出差旅費核算明細表(含日支費)'!$J$53:$J$67) -> 0 | R18: =SUMIF('國外出差旅費核算明細表(含日支費)'!$L$53:$L$67,$C18&R$9,'國外出差旅費核算明細表(含日支費)'!$J$53:$J$67) -> 0 | V18: =SUMIF('國外出差旅費核算明細表(含日支費)'!$L$53:$L$67,$C18&V$9,'國外出差旅費核算明細表(含日支費)'!$J$53:$J$67) -> 0
C19: 行政費 | F19: =SUMIF('國外出差旅費核算明細表(含日支費)'!$L$53:$L$67,$C19&F$9,'國外出差旅費核算明細表(含日支費)'!$J$53:$J$67) -> 0 | J19: =SUMIF('國外出差旅費核算明細表(含日支費)'!$L$53:$L$67,$C19&J$9,'國外出差旅費核算明細表(含日支費)'!$J$53:$J$67) -> 0 | N19: =SUMIF('國外出差旅費核算明細表(含日支費)'!$L$53:$L$67,$C19&N$9,'國外出差旅費核算明細表(含日支費)'!$J$53:$J$67) -> 0 | R19: =SUMIF('國外出差旅費核算明細表(含日支費)'!$L$53:$L$67,$C19&R$9,'國外出差旅費核算明細表(含日支費)'!$J$53:$J$67) -> 0 | V19: =SUMIF('國外出差旅費核算明細表(含日支費)'!$L$53:$L$67,$C19&V$9,'國外出差旅費核算明細表(含日支費)'!$J$53:$J$67) -> 0
C20: 禮品及交際 | F20: =SUMIF('國外出差旅費核算明細表(含日支費)'!$L$53:$L$67,$C20&F$9,'國外出差旅費核算明細表(含日支費)'!$J$53:$J$67) -> 0 | J20: =SUMIF('國外出差旅費核算明細表(含日支費)'!$L$53:$L$67,$C20&J$9,'國外出差旅費核算明細表(含日支費)'!$J$53:$J$67) -> 0 | N20: =SUMIF('國外出差旅費核算明細表(含日支費)'!$L$53:$L$67,$C20&N$9,'國外出差旅費核算明細表(含日支費)'!$J$53:$J$67) -> 0 | R20: =SUMIF('國外出差旅費核算明細表(含日支費)'!$L$53:$L$67,$C20&R$9,'國外出差旅費核算明細表(含日支費)'!$J$53:$J$67) -> 0 | V20: =SUMIF('國外出差旅費核算明細表(含日支費)'!$L$53:$L$67,$C20&V$9,'國外出差旅費核算明細表(含日支費)'!$J$53:$J$67) -> 0
C21: 雜費 | F21: =SUMIF('國外出差旅費核算明細表(含日支費)'!$L$53:$L$67,$C21&F$9,'國外出差旅費核算明細表(含日支費)'!$J$53:$J$67) -> 0 | J21: =SUMIF('國外出差旅費核算明細表(含日支費)'!$L$53:$L$67,$C21&J$9,'國外出差旅費核算明細表(含日支費)'!$J$53:$J$67) -> 0 | N21: =SUMIF('國外出差旅費核算明細表(含日支費)'!$L$53:$L$67,$C21&N$9,'國外出差旅費核算明細表(含日支費)'!$J$53:$J$67) -> 0 | R21: =SUMIF('國外出差旅費核算明細表(含日支費)'!$L$53:$L$67,$C21&R$9,'國外出差旅費核算明細表(含日支費)'!$J$53:$J$67) -> 0 | V21: =SUMIF('國外出差旅費核算明細表(含日支費)'!$L$53:$L$67,$C21&V$9,'國外出差旅費核算明細表(含日支費)'!$J$53:$J$67) -> 0
B22: 原幣小計 | F22: =SUM(F11:I21) -> 0 | J22: =SUM(J11:M21) -> 0 | N22: =SUM(N11:Q21) -> 0 | R22: =SUM(R11:U21) -> 0 | V22: =SUM(V11:Z21) -> 0
B23: 折合臺幣 | F23: =ROUND(F10*F22,0) -> 0 | J23: =ROUND(J10*J22,0) -> 0 | N23: =ROUND(N10*N22,0) -> 0 | R23: =ROUND(R10*R22,0) -> 0 | V23: =ROUND(V10*V22,0) -> 0
B24: 臺幣合計 | F24: =SUM(F23:Z23) -> 0 | K24: 已借支金額 | R24: 應申請(-退還)金額 | W24: =F24-N24 -> 0
B25: 備 註
B26: 結匯方式 (擇一檢附證明) | F26: □ | G26: 出差前一日之臺灣銀行賣出即期匯率 | O26: 付款對象
F27: □ | G27: 銀行實際結匯單據 | O27: □ | P27: 本院員工(姓名)
F28: □ | G28: 在國外執行公務之行政費以信用卡結匯 | O28: □ | P28: 外部人員(姓名)
B30: 說明事項：
B31: 1.檢附「國外出差旅費核算明細表」，單據黏貼於「支出憑證黏存單」。
B32: 2.「電子機票」或「機票票根」或「其他足資證明行程之文件」。（三擇一）
B33: 3.「國際線航空機票購票證明單」或「旅行業代收轉付收據」或「其他足資證明支付票款之文件」。（三擇一）
B34: 4.「登機證存根(含電子登機證)」或「航空公司所開立之搭機證明」或「足資證明出國事實之護照影本」。（三擇一）
B35: 5.除生活費依本院「國外出差旅費報支作業規定」計算核給，均應檢附原始單據，如保險費收據(含保單)、報名／註冊費收據。
B36: 6.一律以匯款方式支付：本院員工，為其薪資帳戶；非本院員工，檢附銀行帳號資訊。

Sheet 國外出差旅費核算明細表(含日支費)
B2: 國家資通安全研究院 | K2: 飛機
B3: 國外出差旅費核算明細表 | K3: 船舶
B4: 匯率 | E4: 美金/台幣 | F4: USD | H4: =VLOOKUP(I4,選單資料!$T$1:$U$10,2,0)&"/台幣" -> #N/A | K4: 長途大眾陸運工具
B5: □ | C5: 出差前一日 臺灣銀行賣出即期匯率 | E5: =VLOOKUP(F5,選單資料!$T$1:$U$10,2,0)&"/台幣" -> #N/A | H5: =VLOOKUP(I5,選單資料!$T$1:$U$10,2,0)&"/台幣" -> #N/A | K5: 手續費
B6: □ | C6: 銀行實際結匯單據 | E6: =VLOOKUP(F6,選單資料!$T$1:$U$10,2,0)&"/台幣" -> #N/A | H6: =VLOOKUP(I6,選單資料!$T$1:$U$10,2,0)&"/台幣" -> #N/A | K6: 保險費
B7: 日 期 | E7: 出差城市 | H7: 生活費(USD) | K7: 禮品及交際費
H8: 住宿費70% | I8: 膳食費20% | J8: 零用費10% | K8: 雜費
D9: =WEEKDAY(B9,1) -> 7 | H9: =IF($E9="","",VLOOKUP($E9,'國外+陸港澳 日支費'!$B:$K,3,0)) | I9: =IF($E9="","",VLOOKUP(E9,'國外+陸港澳 日支費'!$B:$K,4,0)) | J9: =IF($E9="","",VLOOKUP($E9,'國外+陸港澳 日支費'!$B:$K,5,0))
D10: =WEEKDAY(B10,1) -> 7 | H10: =IF($E10="","",VLOOKUP($E10,'國外+陸港澳 日支費'!$B:$K,3,0)) | I10: =IF($E10="","",VLOOKUP(E10,'國外+陸港澳 日支費'!$B:$K,4,0)) | J10: =IF($E10="","",VLOOKUP($E10,'國外+陸港澳 日支費'!$B:$K,5,0))
D11: =WEEKDAY(B11,1) -> 7 | H11: =IF($E11="","",VLOOKUP($E11,'國外+陸港澳 日支費'!$B:$K,3,0)) | I11: =IF($E11="","",VLOOKUP(E11,'國外+陸港澳 日支費'!$B:$K,4,0)) | J11: =IF($E11="","",VLOOKUP($E11,'國外+陸港澳 日支費'!$B:$K,5,0))
D12: =WEEKDAY(B12,1) -> 7 | H12: =IF($E12="","",VLOOKUP($E12,'國外+陸港澳 日支費'!$B:$K,3,0)) | I12: =IF($E12="","",VLOOKUP(E12,'國外+陸港澳 日支費'!$B:$K,4,0)) | J12: =IF($E12="","",VLOOKUP($E12,'國外+陸港澳 日支費'!$B:$K,5,0))
D13: =WEEKDAY(B13,1) -> 7 | H13: =IF($E13="","",VLOOKUP($E13,'國外+陸港澳 日支費'!$B:$K,3,0)) | I13: =IF($E13="","",VLOOKUP(E13,'國外+陸港澳 日支費'!$B:$K,4,0)) | J13: =IF($E13="","",VLOOKUP($E13,'國外+陸港澳 日支費'!$B:$K,5,0))
D14: =WEEKDAY(B14,1) -> 7 | H14: =IF($E14="","",VLOOKUP($E14,'國外+陸港澳 日支費'!$B:$K,3,0)) | I14: =IF($E14="","",VLOOKUP(E14,'國外+陸港澳 日支費'!$B:$K,4,0)) | J14: =IF($E14="","",VLOOKUP($E14,'國外+陸港澳 日支費'!$B:$K,5,0))
D15: =WEEKDAY(B15,1) -> 7 | H15: =IF($E15="","",VLOOKUP($E15,'國外+陸港澳 日支費'!$B:$K,3,0)) | I15: =IF($E15="","",VLOOKUP(E15,'國外+陸港澳 日支費'!$B:$K,4,0)) | J15: =IF($E15="","",VLOOKUP($E15,'國外+陸港澳 日支費'!$B:$K,5,0))
H16: =IF($E16="","",VLOOKUP($E16,'國外+陸港澳 日支費'!$B:$K,3,0)) | I16: =IF($E16="","",VLOOKUP(E16,'國外+陸港澳 日支費'!$B:$K,4,0)) | J16: =IF($E16="","",VLOOKUP($E16,'國外+陸港澳 日支費'!$B:$K,5,0))
H17: =IF($E17="","",VLOOKUP($E17,'國外+陸港澳 日支費'!$B:$K,3,0)) | I17: =IF($E17="","",VLOOKUP(E17,'國外+陸港澳 日支費'!$B:$K,4,0)) | J17: =IF($E17="","",VLOOKUP($E17,'國外+陸港澳 日支費'!$B:$K,5,0))
H18: =IF($E18="","",VLOOKUP($E18,'國外+陸港澳 日支費'!$B:$K,3,0)) | I18: =IF($E18="","",VLOOKUP(E18,'國外+陸港澳 日支費'!$B:$K,4,0)) | J18: =IF($E18="","",VLOOKUP($E18,'國外+陸港澳 日支費'!$B:$K,5,0))
H19: =IF($E19="","",VLOOKUP($E19,'國外+陸港澳 日支費'!$B:$K,3,0)) | I19: =IF($E19="","",VLOOKUP(E19,'國外+陸港澳 日支費'!$B:$K,4,0)) | J19: =IF($E19="","",VLOOKUP($E19,'國外+陸港澳 日支費'!$B:$K,5,0))
H20: =IF($E20="","",VLOOKUP($E20,'國外+陸港澳 日支費'!$B:$K,3,0)) | I20: =IF($E20="","",VLOOKUP(E20,'國外+陸港澳 日支費'!$B:$K,4,0)) | J20: =IF($E20="","",VLOOKUP($E20,'國外+陸港澳 日支費'!$B:$K,5,0))
H21: =IF($E21="","",VLOOKUP($E21,'國外+陸港澳 日支費'!$B:$K,3,0)) | I21: =IF($E21="","",VLOOKUP(E21,'國外+陸港澳 日支費'!$B:$K,4,0)) | J21: =IF($E21="","",VLOOKUP($E21,'國外+陸港澳 日支費'!$B:$K,5,0))
H22: =IF($E22="","",VLOOKUP($E22,'國外+陸港澳 日支費'!$B:$K,3,0)) | I22: =IF($E22="","",VLOOKUP(E22,'國外+陸港澳 日支費'!$B:$K,4,0)) | J22: =IF($E22="","",VLOOKUP($E22,'國外+陸港澳 日支費'!$B:$K,5,0))
H23: =IF($E23="","",VLOOKUP($E23,'國外+陸港澳 日支費'!$B:$K,3,0)) | I23: =IF($E23="","",VLOOKUP(E23,'國外+陸港澳 日支費'!$B:$K,4,0)) | J23: =IF($E23="","",VLOOKUP($E23,'國外+陸港澳 日支費'!$B:$K,5,0))
H24: =IF($E24="","",VLOOKUP($E24,'國外+陸港澳 日支費'!$B:$K,3,0)) | I24: =IF($E24="","",VLOOKUP(E24,'國外+陸港澳 日支費'!$B:$K,4,0)) | J24: =IF($E24="","",VLOOKUP($E24,'國外+陸港澳 日支費'!$B:$K,5,0))
H25: =IF($E25="","",VLOOKUP($E25,'國外+陸港澳 日支費'!$B:$K,3,0)) | I25: =IF($E25="","",VLOOKUP(E25,'國外+陸港澳 日支費'!$B:$K,4,0)) | J25: =IF($E25="","",VLOOKUP($E25,'國外+陸港澳 日支費'!$B:$K,5,0))
H26: =IF($E26="","",VLOOKUP($E26,'國外+陸港澳 日支費'!$B:$K,3,0)) | I26: =IF($E26="","",VLOOKUP(E26,'國外+陸港澳 日支費'!$B:$K,4,0)) | J26: =IF($E26="","",VLOOKUP($E26,'國外+陸港澳 日支費'!$B:$K,5,0))
H27: =IF($E27="","",VLOOKUP($E27,'國外+陸港澳 日支費'!$B:$K,3,0)) | I27: =IF($E27="","",VLOOKUP(E27,'國外+陸港澳 日支費'!$B:$K,4,0)) | J27: =IF($E27="","",VLOOKUP($E27,'國外+陸港澳 日支費'!$B:$K,5,0))
... H48: =IF($E48="","",VLOOKUP($E48,'國外+陸港澳 日支費'!$B:$K,3,0)) | I48: =IF($E48="","",VLOOKUP(E48,'國外+陸港澳 日支費'!$B:$K,4,0)) | J48: =IF($E48="","",VLOOKUP($E48,'國外+陸港澳 日支費'!$B:$K,5,0))
B49: 合 計 | H49: =SUM(H9:H48) -> 0 | I49: =SUM(I9:I48) -> 0 | J49: =SUM(J9:J48) -> 0
B51: 交通費與辦公費明細
B52: 日期 | D52: 項目名稱 | F52: 費用說明 | I52: 幣別 | J52: 金額
I53: USD | L53: =D53&I53 -> USD
I54: NTD | L54: =D54&I54 -> NTD
I55: JPY | L55: =D55&I55 -> JPY
I56: NTD | L56: =D56&I56 -> NTD
I57: JPY | L57: =D57&I57 -> JPY
I58: JPY | L58: =D58&I58 -> JPY
I59: JPY | L59: =D59&I59 -> JPY
I60: NTD | L60: =D60&I60 -> NTD
L61: =D61&I61
L62: =D62&I62
L63: =D63&I63
L64: =D64&I64
L65: =D65&I65
L66: =D66&I66
L67: =D67&I67
B69: 出差人：
A84: =#REF!&#REF! -> #REF!
A85: =#REF!&#REF! -> #REF!
A86: =#REF!&#REF! -> #REF!
A87: =#REF!&#REF! -> #REF!
A88: =#REF!&#REF! -> #REF!
A89: =#REF!&#REF! -> #REF!
A90: =#REF!&#REF! -> #REF!
A91: =#REF!&#REF! -> #REF!
A92: =#REF!&#REF! -> #REF!
A93: =#REF!&#REF! -> #REF!
A94: =#REF!&#REF! -> #REF!

Sheet 國外出差旅費結報單_範例
B2: 國家資通安全研究院
B3: 國外出差旅費結報單
B4: 申請日期： | E4: 113 | F4: 年 | G4: 3 | H4: 月 | I4: 27 | J4: 日 | T4: 所屬年度： | X4: 113 | Z4: 年
B5: 姓名 | D5: ＸＸＸ | H5: 職稱 | J5: 工程師 | N5: 單位 | P5: 前瞻研究籌獲中心(RA) | T5: 計畫 工項 | V5: 130830
V6: =IFERROR(VLOOKUP($V$5,選單資料!J:K,2,0),"") -> 推動公私協同治理
B7: 出差事由 | E7: 參加歐洲國際資安交流研習會議，並擔任3/14下午時段分享者。
B8: 中華民國 | F8: 113 | H8: 年 | I8: 03 | J8: 月 | K8: 11 | L8: 日起至 | N8: 113 | P8: 年 | Q8: 3 | R8: 月 | S8: 16 | T8: 日止共計 | W8: 6 | Y8: 日
B9: 出差前一日賣出匯率幣別/匯率 | F9: USD | J9: NTD | N9: =國外出差旅費核算明細表_範例!$F5 -> EUR | R9: =國外出差旅費核算明細表_範例!$F6 -> 0 | V9: =國外出差旅費核算明細表_範例!$I$4 -> 0
F10: =國外出差旅費核算明細表_範例!$G$4 -> 31.752 | J10: 1 | N10: =IF(N$9=國外出差旅費核算明細表_範例!$F5,國外出差旅費核算明細表_範例!$G5,"") -> 34.5 | R10: =IF(R$9=國外出差旅費核算明細表_範例!$F6,國外出差旅費核算明細表_範例!$G6,"") -> 0 | V10: =國外出差旅費核算明細表_範例!$J$4 -> 0
B11: 交通費 | C11: 飛機 | F11: =SUMIF(國外出差旅費核算明細表_範例!$L$33:$L$47,$C11&F$9,國外出差旅費核算明細表_範例!$J$33:$J$47) -> 0 | J11: =SUMIF(國外出差旅費核算明細表_範例!$L$33:$L$47,$C11&J$9,國外出差旅費核算明細表_範例!$J$33:$J$47) -> 50000 | N11: =SUMIF(國外出差旅費核算明細表_範例!$L$33:$L$47,$C11&N$9,國外出差旅費核算明細表_範例!$J$33:$J$47) -> 0 | R11: =SUMIF(國外出差旅費核算明細表_範例!$L$33:$L$47,$C11&R$9,國外出差旅費核算明細表_範例!$J$33:$J$47) -> 0 | V11: =SUMIF(國外出差旅費核算明細表_範例!$L$33:$L$47,$C11&R$9,國外出差旅費核算明細表_範例!$J$33:$J$47) -> 0
C12: 船舶 | F12: =SUMIF(國外出差旅費核算明細表_範例!$L$33:$L$47,$C12&F$9,國外出差旅費核算明細表_範例!$J$33:$J$47) -> 0 | J12: =SUMIF(國外出差旅費核算明細表_範例!$L$33:$L$47,$C12&J$9,國外出差旅費核算明細表_範例!$J$33:$J$47) -> 0 | N12: =SUMIF(國外出差旅費核算明細表_範例!$L$33:$L$47,$C12&N$9,國外出差旅費核算明細表_範例!$J$33:$J$47) -> 0 | R12: =SUMIF(國外出差旅費核算明細表_範例!$L$33:$L$47,$C12&R$9,國外出差旅費核算明細表_範例!$J$33:$J$47) -> 0 | V12: =SUMIF(國外出差旅費核算明細表_範例!$L$33:$L$47,$C12&R$9,國外出差旅費核算明細表_範例!$J$33:$J$47) -> 0
C13: 長途大眾 交通工具 | F13: =SUMIF(國外出差旅費核算明細表_範例!$L$33:$L$47,$C13&F$9,國外出差旅費核算明細表_範例!$J$33:$J$47) -> 0 | J13: =SUMIF(國外出差旅費核算明細表_範例!$L$33:$L$47,$C13&J$9,國外出差旅費核算明細表_範例!$J$33:$J$47) -> 360 | N13: =SUMIF(國外出差旅費核算明細表_範例!$L$33:$L$47,$C13&N$9,國外出差旅費核算明細表_範例!$J$33:$J$47) -> 180 | R13: =SUMIF(國外出差旅費核算明細表_範例!$L$33:$L$47,$C13&R$9,國外出差旅費核算明細表_範例!$J$33:$J$47) -> 0
B14: 生活費 | C14: 住宿費70% | F14: =國外出差旅費核算明細表_範例!$H$29 -> 994 | J14: =SUMIF(國外出差旅費核算明細表_範例!$L$33:$L$47,$C14&J$9,國外出差旅費核算明細表_範例!$J$33:$J$47) -> 0 | N14: =SUMIF(國外出差旅費核算明細表_範例!$L$33:$L$47,$C14&N$9,國外出差旅費核算明細表_範例!$J$33:$J$47) -> 0 | R14: =SUMIF(國外出差旅費核算明細表_範例!$L$33:$L$47,$C14&R$9,國外出差旅費核算明細表_範例!$J$33:$J$47) -> 0 | V14: =SUMIF(國外出差旅費核算明細表_範例!$L$33:$L$47,$C14&V$9,國外出差旅費核算明細表_範例!$J$33:$J$47) -> 0
C15: 膳食費20% | F15: =國外出差旅費核算明細表_範例!$I$29 -> 322.8 | J15: =SUMIF(國外出差旅費核算明細表_範例!$L$33:$L$47,$C15&J$9,國外出差旅費核算明細表_範例!$J$33:$J$47) -> 0 | N15: =SUMIF(國外出差旅費核算明細表_範例!$L$33:$L$47,$C15&N$9,國外出差旅費核算明細表_範例!$J$33:$J$47) -> 0 | R15: =SUMIF(國外出差旅費核算明細表_範例!$L$33:$L$47,$C15&R$9,國外出差旅費核算明細表_範例!$J$33:$J$47) -> 0 | V15: =SUMIF(國外出差旅費核算明細表_範例!$L$33:$L$47,$C15&V$9,國外出差旅費核算明細表_範例!$J$33:$J$47) -> 0
C16: 零用費10% | F16: =國外出差旅費核算明細表_範例!$J$29 -> 213 | J16: =SUMIF(國外出差旅費核算明細表_範例!$L$33:$L$47,$C16&J$9,國外出差旅費核算明細表_範例!$J$33:$J$47) -> 0 | N16: =SUMIF(國外出差旅費核算明細表_範例!$L$33:$L$47,$C16&N$9,國外出差旅費核算明細表_範例!$J$33:$J$47) -> 0 | R16: =SUMIF(國外出差旅費核算明細表_範例!$L$33:$L$47,$C16&R$9,國外出差旅費核算明細表_範例!$J$33:$J$47) -> 0 | V16: =SUMIF(國外出差旅費核算明細表_範例!$L$33:$L$47,$C16&V$9,國外出差旅費核算明細表_範例!$J$33:$J$47) -> 0
B17: 辦公費 | C17: 手續費 | F17: =SUMIF(國外出差旅費核算明細表_範例!$L$33:$L$47,$C17&F$9,國外出差旅費核算明細表_範例!$J$33:$J$47) -> 0 | J17: =SUMIF(國外出差旅費核算明細表_範例!$L$33:$L$47,$C17&J$9,國外出差旅費核算明細表_範例!$J$33:$J$47) -> 1500 | N17: =SUMIF(國外出差旅費核算明細表_範例!$L$33:$L$47,$C17&N$9,國外出差旅費核算明細表_範例!$J$33:$J$47) -> 0 | R17: =SUMIF(國外出差旅費核算明細表_範例!$L$33:$L$47,$C17&R$9,國外出差旅費核算明細表_範例!$J$33:$J$47) -> 0 | V17: =SUMIF(國外出差旅費核算明細表_範例!$L$33:$L$47,$C17&V$9,國外出差旅費核算明細表_範例!$J$33:$J$47) -> 0
C18: 保險費 | F18: =SUMIF(國外出差旅費核算明細表_範例!$L$33:$L$47,$C18&F$9,國外出差旅費核算明細表_範例!$J$33:$J$47) -> 0 | J18: =SUMIF(國外出差旅費核算明細表_範例!$L$33:$L$47,$C18&J$9,國外出差旅費核算明細表_範例!$J$33:$J$47) -> 500 | N18: =SUMIF(國外出差旅費核算明細表_範例!$L$33:$L$47,$C18&N$9,國外出差旅費核算明細表_範例!$J$33:$J$47) -> 0 | R18: =SUMIF(國外出差旅費核算明細表_範例!$L$33:$L$47,$C18&R$9,國外出差旅費核算明細表_範例!$J$33:$J$47) -> 0 | V18: =SUMIF(國外出差旅費核算明細表_範例!$L$33:$L$47,$C18&V$9,國外出差旅費核算明細表_範例!$J$33:$J$47) -> 0
C19: 行政費 | F19: =SUMIF(國外出差旅費核算明細表_範例!$L$33:$L$47,$C19&F$9,國外出差旅費核算明細表_範例!$J$33:$J$47) -> 0 | J19: =SUMIF(國外出差旅費核算明細表_範例!$L$33:$L$47,$C19&J$9,國外出差旅費核算明細表_範例!$J$33:$J$47) -> 12999 | N19: =SUMIF(國外出差旅費核算明細表_範例!$L$33:$L$47,$C19&N$9,國外出差旅費核算明細表_範例!$J$33:$J$47) -> 0 | R19: =SUMIF(國外出差旅費核算明細表_範例!$L$33:$L$47,$C19&R$9,國外出差旅費核算明細表_範例!$J$33:$J$47) -> 0 | V19: =SUMIF(國外出差旅費核算明細表_範例!$L$33:$L$47,$C19&V$9,國外出差旅費核算明細表_範例!$J$33:$J$47) -> 0
C20: 禮品及交際 | F20: =SUMIF(國外出差旅費核算明細表_範例!$L$33:$L$47,$C20&F$9,國外出差旅費核算明細表_範例!$J$33:$J$47) -> 0 | J20: =SUMIF(國外出差旅費核算明細表_範例!$L$33:$L$47,$C20&J$9,國外出差旅費核算明細表_範例!$J$33:$J$47) -> 0 | N20: =SUMIF(國外出差旅費核算明細表_範例!$L$33:$L$47,$C20&N$9,國外出差旅費核算明細表_範例!$J$33:$J$47) -> 0 | R20: =SUMIF(國外出差旅費核算明細表_範例!$L$33:$L$47,$C20&R$9,國外出差旅費核算明細表_範例!$J$33:$J$47) -> 0 | V20: =SUMIF(國外出差旅費核算明細表_範例!$L$33:$L$47,$C20&V$9,國外出差旅費核算明細表_範例!$J$33:$J$47) -> 0
C21: 雜費 | F21: =SUMIF(國外出差旅費核算明細表_範例!$L$33:$L$47,$C21&F$9,國外出差旅費核算明細表_範例!$J$33:$J$47) -> 0 | J21: =SUMIF(國外出差旅費核算明細表_範例!$L$33:$L$47,$C21&J$9,國外出差旅費核算明細表_範例!$J$33:$J$47) -> 0 | N21: =SUMIF(國外出差旅費核算明細表_範例!$L$33:$L$47,$C21&N$9,國外出差旅費核算明細表_範例!$J$33:$J$47) -> 0 | R21: =SUMIF(國外出差旅費核算明細表_範例!$L$33:$L$47,$C21&R$9,國外出差旅費核算明細表_範例!$J$33:$J$47) -> 0 | V21: =SUMIF(國外出差旅費核算明細表_範例!$L$33:$L$47,$C21&V$9,國外出差旅費核算明細表_範例!$J$33:$J$47) -> 0
B22: 原幣小計 | F22: =SUM(F11:I21) -> 1529.8 | J22: =SUM(J11:M21) -> 65359 | N22: =SUM(N11:Q21) -> 180 | R22: =SUM(R11:U21) -> 0 | V22: =SUM(V11:Z21) -> 0
B23: 折合臺幣 | F23: =ROUND(F10*F22,0) -> 48574 | J23: =ROUND(J10*J22,0) -> 65359 | N23: =ROUND(N10*N22,0) -> 6210 | R23: =ROUND(R10*R22,0) -> 0 | V23: =ROUND(V10*V22,0) -> 0
B24: 臺幣合計 | F24: =SUM(F23:Z23) -> 120143 | K24: 已借支金額 | N24: 100000 | R24: 應申請(-退還)金額 | W24: =F24-N24 -> 20143
B25: 備 註
B26: 結匯方式 (擇一檢附證明) | F26: ■ | G26: 出差前一日之臺灣銀行賣出即期匯率 | O26: 付款對象
F27: □ | G27: 銀行實際結匯單據 | O27: □ | P27: 本院員工(姓名)
F28: □ | G28: 在國外執行公務之行政費以信用卡結匯 | O28: □ | P28: 外部人員(姓名)
B30: 說明事項：
B31: 1.檢附「國外出差日支費核算明細表」，單據黏貼於「支出憑證黏存單」。
B32: 2.「電子機票」或「機票票根」或「其他足資證明行程之文件」。（三擇一）
B33: 3.「國際線航空機票購票證明單」或「旅行業代收轉付收據」或「其他足資證明支付票款之文件」。（三擇一）
B34: 4.「登機證存根(含電子登機證)」或「航空公司所開立之搭機證明」或「足資證明出國事實之護照影本」。（三擇一）
B35: 5.除生活費依本院「國外出差旅費報支作業規定」計算核給，均應檢附原始單據，如保險費收據(含保單)、報名／註冊費收據。
B36: 6.一律以匯款方式支付：本院員工，為其薪資帳戶；非本院員工，檢附銀行帳號資訊。

Sheet 國外出差旅費核算明細表_範例
B2: 國家資通安全研究院 | K2: 飛機
B3: 國外出差旅費核算明細表 | K3: 船舶
B4: 匯率 | E4: 美金/台幣 | F4: USD | G4: 31.752 | H4: =VLOOKUP(I4,選單資料!$T$1:$U$10,2,0)&"/台幣" -> #N/A | K4: 長途大眾陸運工具
B5: ■ | C5: 出差前一日 臺灣銀行賣出即期匯率 | E5: =VLOOKUP(F5,選單資料!$T$1:$U$10,2,0)&"/台幣" -> 歐元/台幣 | F5: EUR | G5: 34.5 | H5: =VLOOKUP(I5,選單資料!$T$1:$U$10,2,0)&"/台幣" -> #N/A | K5: 手續費
B6: □ | C6: 銀行實際結匯單據 | E6: =VLOOKUP(F6,選單資料!$T$1:$U$10,2,0)&"/台幣" -> #N/A | H6: =VLOOKUP(I6,選單資料!$T$1:$U$10,2,0)&"/台幣" -> #N/A | K6: 保險費
B7: 日 期 | E7: 出差城市 | H7: 生活費(USD) | K7: 禮品及交際費
H8: 住宿費70% | I8: 膳食費20% | J8: 零用費10% | K8: 雜費
B9: 45362 | D9: =WEEKDAY(B9,1) -> 2 | E9: 德國(Germany)-柏林(Berlin) | I9: =IF($E9="","",VLOOKUP(E9,'國外+陸港澳 日支費'!$B:$K,4,0)) -> 71 | J9: =IF($E9="","",VLOOKUP($E9,'國外+陸港澳 日支費'!$B:$K,5,0)) -> 35.5
B10: 45363 | D10: =WEEKDAY(B10,1) -> 3 | E10: 德國(Germany)-柏林(Berlin) | H10: =IF($E10="","",VLOOKUP($E10,'國外+陸港澳 日支費'!$B:$K,3,0)) -> 248.5 | I10: 36.6 | J10: =IF($E10="","",VLOOKUP($E10,'國外+陸港澳 日支費'!$B:$K,5,0)) -> 35.5
B11: 45364 | D11: =WEEKDAY(B11,1) -> 4 | E11: 德國(Germany)-柏林(Berlin) | H11: =IF($E11="","",VLOOKUP($E11,'國外+陸港澳 日支費'!$B:$K,3,0)) -> 248.5 | I11: 36.6 | J11: =IF($E11="","",VLOOKUP($E11,'國外+陸港澳 日支費'!$B:$K,5,0)) -> 35.5
B12: 45365 | D12: =WEEKDAY(B12,1) -> 5 | E12: 德國(Germany)-柏林(Berlin) | H12: =IF($E12="","",VLOOKUP($E12,'國外+陸港澳 日支費'!$B:$K,3,0)) -> 248.5 | I12: 36.6 | J12: =IF($E12="","",VLOOKUP($E12,'國外+陸港澳 日支費'!$B:$K,5,0)) -> 35.5
B13: 45366 | D13: =WEEKDAY(B13,1) -> 6 | E13: 德國(Germany)-柏林(Berlin) | H13: =IF($E13="","",VLOOKUP($E13,'國外+陸港澳 日支費'!$B:$K,3,0)) -> 248.5 | I13: =IF($E13="","",VLOOKUP(E13,'國外+陸港澳 日支費'!$B:$K,4,0)) -> 71 | J13: =IF($E13="","",VLOOKUP($E13,'國外+陸港澳 日支費'!$B:$K,5,0)) -> 35.5
B14: 45367 | D14: =WEEKDAY(B14,1) -> 7 | E14: 德國(Germany)-柏林(Berlin) | I14: =IF($E14="","",VLOOKUP(E14,'國外+陸港澳 日支費'!$B:$K,4,0)) -> 71 | J14: =IF($E14="","",VLOOKUP($E14,'國外+陸港澳 日支費'!$B:$K,5,0)) -> 35.5
H15: =IF($E15="","",VLOOKUP($E15,'國外+陸港澳 日支費'!$B:$K,3,0)) | I15: =IF($E15="","",VLOOKUP(E15,'國外+陸港澳 日支費'!$B:$K,4,0)) | J15: =IF($E15="","",VLOOKUP($E15,'國外+陸港澳 日支費'!$B:$K,5,0))
H16: =IF($E16="","",VLOOKUP($E16,'國外+陸港澳 日支費'!$B:$K,3,0)) | I16: =IF($E16="","",VLOOKUP(E16,'國外+陸港澳 日支費'!$B:$K,4,0)) | J16: =IF($E16="","",VLOOKUP($E16,'國外+陸港澳 日支費'!$B:$K,5,0))
H17: =IF($E17="","",VLOOKUP($E17,'國外+陸港澳 日支費'!$B:$K,3,0)) | I17: =IF($E17="","",VLOOKUP(E17,'國外+陸港澳 日支費'!$B:$K,4,0)) | J17: =IF($E17="","",VLOOKUP($E17,'國外+陸港澳 日支費'!$B:$K,5,0))
H18: =IF($E18="","",VLOOKUP($E18,'國外+陸港澳 日支費'!$B:$K,3,0)) | I18: =IF($E18="","",VLOOKUP(E18,'國外+陸港澳 日支費'!$B:$K,4,0)) | J18: =IF($E18="","",VLOOKUP($E18,'國外+陸港澳 日支費'!$B:$K,5,0))
H19: =IF($E19="","",VLOOKUP($E19,'國外+陸港澳 日支費'!$B:$K,3,0)) | I19: =IF($E19="","",VLOOKUP(E19,'國外+陸港澳 日支費'!$B:$K,4,0)) | J19: =IF($E19="","",VLOOKUP($E19,'國外+陸港澳 日支費'!$B:$K,5,0))
H20: =IF($E20="","",VLOOKUP($E20,'國外+陸港澳 日支費'!$B:$K,3,0)) | I20: =IF($E20="","",VLOOKUP(E20,'國外+陸港澳 日支費'!$B:$K,4,0)) | J20: =IF($E20="","",VLOOKUP($E20,'國外+陸港澳 日支費'!$B:$K,5,0))
H21: =IF($E21="","",VLOOKUP($E21,'國外+陸港澳 日支費'!$B:$K,3,0)) | I21: =IF($E21="","",VLOOKUP(E21,'國外+陸港澳 日支費'!$B:$K,4,0)) | J21: =IF($E21="","",VLOOKUP($E21,'國外+陸港澳 日支費'!$B:$K,5,0))
H22: =IF($E22="","",VLOOKUP($E22,'國外+陸港澳 日支費'!$B:$K,3,0)) | I22: =IF($E22="","",VLOOKUP(E22,'國外+陸港澳 日支費'!$B:$K,4,0)) | J22: =IF($E22="","",VLOOKUP($E22,'國外+陸港澳 日支費'!$B:$K,5,0))
H23: =IF($E23="","",VLOOKUP($E23,'國外+陸港澳 日支費'!$B:$K,3,0)) | I23: =IF($E23="","",VLOOKUP(E23,'國外+陸港澳 日支費'!$B:$K,4,0)) | J23: =IF($E23="","",VLOOKUP($E23,'國外+陸港澳 日支費'!$B:$K,5,0))
H24: =IF($E24="","",VLOOKUP($E24,'國外+陸港澳 日支費'!$B:$K,3,0)) | I24: =IF($E24="","",VLOOKUP(E24,'國外+陸港澳 日支費'!$B:$K,4,0)) | J24: =IF($E24="","",VLOOKUP($E24,'國外+陸港澳 日支費'!$B:$K,5,0))
H25: =IF($E25="","",VLOOKUP($E25,'國外+陸港澳 日支費'!$B:$K,3,0)) | I25: =IF($E25="","",VLOOKUP(E25,'國外+陸港澳 日支費'!$B:$K,4,0)) | J25: =IF($E25="","",VLOOKUP($E25,'國外+陸港澳 日支費'!$B:$K,5,0))
H26: =IF($E26="","",VLOOKUP($E26,'國外+陸港澳 日支費'!$B:$K,3,0)) | I26: =IF($E26="","",VLOOKUP(E26,'國外+陸港澳 日支費'!$B:$K,4,0)) | J26: =IF($E26="","",VLOOKUP($E26,'國外+陸港澳 日支費'!$B:$K,5,0))
... H28: =IF($E28="","",VLOOKUP($E28,'國外+陸港澳 日支費'!$B:$K,3,0)) | I28: =IF($E28="","",VLOOKUP(E28,'國外+陸港澳 日支費'!$B:$K,4,0)) | J28: =IF($E28="","",VLOOKUP($E28,'國外+陸港澳 日支費'!$B:$K,5,0))
B29: 合 計 | H29: =SUM(H9:H28) -> 994 | I29: =SUM(I9:I28) -> 322.8 | J29: =SUM(J9:J28) -> 213
B31: 交通費與辦公費明細
B32: 日期 | D32: 項目名稱 | F32: 費用說明 | I32: 幣別 | J32: 金額
D33: 飛機 | F33: 台北-柏林往返機票 | I33: NTD | J33: 50000 | L33: =D33&I33 -> 飛機NTD
D34: 長途大眾 交通工具 | F34: 住家-桃園機場往返捷運 | I34: NTD | J34: 360 | L34: =D34&I34 -> 長途大眾 交通工具NTD
D35: 長途大眾 交通工具 | F35: 柏林機場-飯店往返車資 | I35: EUR | J35: 100 | L35: =D35&I35 -> 長途大眾 交通工具EUR
D36: 長途大眾 交通工具 | F36: 飯店-會議地點往返車資 | I36: EUR | J36: 80 | L36: =D36&I36 -> 長途大眾 交通工具EUR
D37: 行政費 | F37: 會議報名費(含信用卡手續費) | I37: NTD | J37: 12000 | L37: =D37&I37 -> 行政費NTD
D38: 保險費 | F38: 旅平險 | I38: NTD | J38: 500 | L38: =D38&I38 -> 保險費NTD
D39: 行政費 | F39: 國際網路漫遊 | I39: NTD | J39: 999 | L39: =D39&I39 -> 行政費NTD
D40: 手續費 | F40: 護照更新 | I40: NTD | J40: 1500 | L40: =D40&I40 -> 手續費NTD
L41: =D41&I41
L42: =D42&I42
L43: =D43&I43
L44: =D44&I44
L45: =D45&I45
L46: =D46&I46
L47: =D47&I47
B49: 出差人：ＸＸＸ
A64: =#REF!&#REF! -> #REF!
A65: =#REF!&#REF! -> #REF!
A66: =#REF!&#REF! -> #REF!
A67: =#REF!&#REF! -> #REF!
A68: =#REF!&#REF! -> #REF!
A69: =#REF!&#REF! -> #REF!
A70: =#REF!&#REF! -> #REF!
A71: =#REF!&#REF! -> #REF!
A72: =#REF!&#REF! -> #REF!
A73: =#REF!&#REF! -> #REF!
A74: =#REF!&#REF! -> #REF!

Sheet 選單資料
A1: 單位別/部門別 | E1: 業務計畫 | F1: 業務計畫代碼 | G1: 業務計畫-工作項目 | H1: 業務計畫-工作項目 | I1: 計畫碼+工項碼 | J1: 執行年度+計畫編號 | K1: 工作項目 | N1: 國外差旅項目 | Q1: 經費來源 | T1: 幣別
A2: 檢測防禦中心(AD) | E2: 推動資安防護機制 | F2: 01 | G2: 120101 政府領域聯防監控 | H2: 12-01-01政府領域聯防監控 | J2: 130810 | K2: 培育資安人才 | N2: 飛機 | Q2: 數位發展部 | T2: NTD | U2: 新臺幣 | W2: 114
A3: 威脅分析中心(TA) | E3: 執行重大事件應變處置 | F3: 02 | G3: 120102 資安情資分享 | H3: 12-01-02資安情資分享 | J3: 130820 | K3: 辦理資安職能業務 | N3: 船舶 | Q3: 資通安全署 | T3: USD | U3: 美元 | W3: 115
A4: 通報應變中心(IR) | E4: 支援敏感性政府機關資安防護 | F4: 03 | G4: 120103 資通安全弱點通報 | H4: 12-01-03資通安全弱點通報 | J4: 130830 | K4: 推動公私協同治理 | N4: 長途大眾 交通工具 | Q4: 工研院 | T4: EUR | U4: 歐元 | W4: 116
A5: 前瞻研究籌獲中心(RA) | E5: 研發資通安全科技 | F5: 04 | G5: 120104 零信任網路資安防護 | H5: 12-01-04零信任網路資安防護 | J5: 130840 | K5: 政府網路資安縱深防護 | N5: 手續費 | Q5: 自籌款 | T5: GBP | U5: 英鎊
A6: 國際合作暨資安治理中心(ICG) | E6: 推動產學合作與技術移轉 | F6: 05 | G6: 120105 端點偵測資安防護 | H6: 12-01-05端點偵測資安防護 | J6: 130850 | K6: 技術基準研究 | N6: 保險費 | T6: SGD | U6: 新加坡幣
A7: 人才培力中心(TE) | E7: 研析各國資安趨勢 | F7: 06 | G7: 120106 政府領域威脅戰情資訊掌握 | H7: 12-01-06政府領域威脅戰情資訊掌握 | J7: 130860 | K7: 強化委外風險管理 | N7: 行政費 | T7: JPY | U7: 日圓
A8: 綜合管理處(GA) | B8: 含董事會、董事長、院長、副院長、董事與監事 | E8: 擴展國際合作交流 | F8: 07 | G8: 120107 誘捕偵測資安防護 | H8: 12-01-07誘捕偵測資安防護 | J8: 130870 | K8: 強化台灣電腦網路危機處理暨協調中心 | N8: 禮品及交際 | T8: KRW | U8: 韓元
A9: 稽核室(AO) | E9: 推動資安技術應用 | F9: 08 | G9: 120108 黑名單自動化阻擋 | H9: 12-01-08黑名單自動化阻擋 | J9: 130880 | K9: 資通訊系統維運 | N9: 雜費 | T9: THB | U9: 泰銖
E10: 支援產業資安重大發展 | F10: 09 | G10: 120109 惡意電郵偵測防護 | H10: 12-01-09惡意電郵偵測防護 | J10: 130310 | K10: 政府韌性系統工作執行計畫 | T10: VND | U10: 越南盾
E11: 培育資安人才 | F11: 10 | G11: 120110 關鍵基礎設施資安防護技術支援 | H11: 12-01-10關鍵基礎設施資安防護技術支援 | J11: 130320 | K11: 政府服務韌性運作與容錯規劃
E12: 推廣全民資安意識 | F12: 11 | G12: 120201 資安通報與諮詢 | H12: 12-02-01資安通報與諮詢 | J12: 130330 | K12: 政府數位服務應變與公私協力環境規劃
E13: 管理費用 | F13: 12 | G13: 120202 資安事件處理與鑑識分析 | H13: 12-02-02資安事件處理與鑑識分析 | J13: 130410 | K13: NCCSC平臺維運及優化
G14: 120203 政府資訊系統緊急事件服務 | H14: 12-02-03政府資訊系統緊急事件服務 | J14: 130420 | K14: 深化通傳領域資安防護能量
G15: 120301 重點機關資安監控與防護 | H15: 12-03-01重點機關資安監控與防護 | J15: 130510 | K15: 打造資料共享分析之隱私保護開源方案
G16: 120401 資安前瞻研究 | H16: 12-04-01資安前瞻研究 | J16: 130520 | K16: 發展隱私保護強度驗測與評估機制
G17: 120402 殭屍網路情蒐研析 | H17: 12-04-02殭屍網路情蒐研析 | J17: 130530 | K17: 擴展隱私強化技術應用場域
G18: 120403 政府領域網路威脅研析 | H18: 12-04-03政府領域網路威脅研析 | J18: 130610 | K18: NICS台灣資安計畫
G19: 120404 社交工程情蒐研析 | H19: 12-04-04社交工程情蒐研析 | J19: 130711 | K19: 發展評測丄具與系統
G20: 120405 政府組態基準研究 | H20: 12-04-05政府組態基準研究 | J20: 130712 | K20: 建構接軌國際之驗測體系
G21: 120406 主動防制技術發展 | H21: 12-04-06主動防制技術發展 | J21: 130713 | K21: 評測環境先期建置
G22: 120407 重大弱點研析 | H22: 12-04-07重大弱點研析 | J22: 130720 | K22: 國際接軌與驗測互認
G23: 120408 組織型駭侵研析與偵測防護 | H23: 12-04-08組織型駭侵研析與偵測防護 | J23: 130910 | K23: 詐騙樣態分析與國際交流
G24: 120409 網路攻防演練 | H24: 12-04-09網路攻防演練 | J24: 139910 | K24: 管理費用
G25: 120410 零信任網路產品功能性檢核服務建置 | H25: 12-04-10零信任網路產品功能性檢核服務建置 | J25: 139911 | K25: 公共關係
... G28: 120601 資安法推動與修正研析 | H28: 12-06-01資安法推動與修正研析 | J28: 120104 | K28: 零信任網路資安防護
G29: 120602 國際資安組織與法制政策研析 | J29: 120202 | K29: 資安事件處理與鑑識分析
G30: 120603 政府資安規範發展 | H30: 12-06-02國際資安組織與法制政策研析 | J30: 120401 | K30: 資安前瞻研究
G31: 120701 國際合作交流 | H31: 12-06-03政府資安規範發展 | J31: 120409 | K31: 網路攻防演練
G32: 120702 跨國攻防演練 | H32: 12-07-01國際合作交流 | J32: 120502 | K32: 政府骨幹網路資料分析實驗場域建置與推動
G33: 120801 資安治理成熟度評估 | H33: 12-07-02跨國攻防演練 | J33: 120602 | K33: 國際資安組織與法制政策研析
G34: 120802 資安輔導服務 | H34: 12-08-01資安治理成熟度評估 | J34: 121002 | K34: 資安人才培育
G35: 120803 資安服務規劃與廠商評鑑 | H35: 12-08-02資安輔導服務 | J35: 121201 | K35: 管理費用
G36: 120804 資安技術檢測服務 | H36: 12-08-03資安服務規劃與廠商評鑑
G37: 120805 建構軟體物料清單 | H37: 12-08-04資安技術檢測服務 | I37: 0101
G38: 120806 擴充政府設計系統元件與開源碼 | H38: 12-08-05建構軟體物料清單 | I38: 0103
G39: 120807 執行數位韌性巡航服務 | H39: 12-08-06擴充政府設計系統元件與開源碼 | I39: 0104
G40: 120808 技術諮詢服務 | H40: 12-08-07執行數位韌性巡航服務 | I40: 0202
G41: 120901 支援產業資安發展 | H41: 12-09-01支援產業資安發展 | I41: 0401
G42: 121001 資安職能訓練 | H42: 12-10-01資安職能訓練 | I42: 0409
G43: 121002 資安人才培育 | H43: 12-10-02資安人才培育 | I43: 0502
G44: 121003 資安人才評量 | I44: 0602
G45: 121004 資安高階人才養成 | I45: 1002
G46: 121101 資安系列競賽 | I46: 1201
G47: 121102 資安法規與案例彙編
G48: 121201 管理費用 | H48: 12-10-03資安人才評量
H49: 12-10-04資安高階人才養成
H56: 12-11-01資安系列競賽
H58: 12-11-02資安法規與案例彙編
H60: 12-12-01管理費用
G64: 130111 | H64: 頂尖人才實戰養成
G65: 130112 | H65: 實習場域建置
G66: 130121 | H66: 協助資安標準審查
G67: 130122 | H67: 機關資安責任等級資料維護
G68: 130123 | H68: 資安參考指引編修
G69: 130124 | H69: 提供資安技術檢測服務
G70: 130125 | H70: 資通安全管理法驗證方案特定要求教育訓練之協助及推動
G71: 130131 | H71: 攻擊研析與偵測防護
G72: 130132 | H72: 網路攻防演練與事件處理
G73: 130133 | H73: 國際合作交流
G74: 130141 | H74: 資安前瞻研究
G75: 130142 | H75: 技術移轉與創新育成
... G83: 130260 | H83: 資安職能訓練業務

Sheet 國外+陸港澳 日支費
C2: 日支數額 | D2: 住宿費 70% | E2: 膳食費 20% | F2: 零用費 10%
B3: 亞太地區
B4: 日本(Japan)
B5: 日本(Japan)-福岡(Fukuoka) | C5: 228 | D5: 159.6 | E5: 45.6 | F5: 22.8
B6: 日本(Japan)-廣島(Hiroshima) | C6: 193 | D6: 135.1 | E6: 38.6 | F6: 19.3
B7: 日本(Japan)-神戶(Kobe) | C7: 264 | D7: 184.8 | E7: 52.8 | F7: 26.4
B8: 日本(Japan)-京都(Kyoto) | C8: 312 | D8: 218.4 | E8: 62.4 | F8: 31.2
B9: 日本(Japan)-名古屋(Nagoya) | C9: 237 | D9: 165.9 | E9: 47.4 | F9: 23.7
B10: 日本(Japan)-大阪(Osaka) | C10: 254 | D10: 177.8 | E10: 50.8 | F10: 25.4
B11: 日本(Japan)-東京(Tokyo) | C11: 301 | D11: 210.7 | E11: 60.2 | F11: 30.1
B12: 日本(Japan)-橫濱(Yokohama) | C12: 288 | D12: 201.6 | E12: 57.6 | F12: 28.8
B13: 日本(Japan)-其他(Other) | C13: 184 | D13: 128.8 | E13: 36.8 | F13: 18.4
B14: 北韓(Korea,Dem. People's Rep. of)
B15: 北韓(Korea,Dem. People's Rep. of)-平壤(Pyongyang) | C15: 252 | D15: 176.4 | E15: 50.4 | F15: 25.2
B16: 北韓(Korea,Dem. People's Rep. of)-其他(Other) | C16: 100 | D16: 70 | E16: 20 | F16: 10
B17: 南韓(Korea)
B18: 南韓(Korea)-濟州(Cheju) | C18: 334 | D18: 233.8 | E18: 66.8 | F18: 33.4
B19: 南韓(Korea)-大田(Daejon) | C19: 309 | D19: 216.3 | E19: 61.8 | F19: 30.9
B20: 南韓(Korea)-仁川(Incheon) | C20: 305 | D20: 213.5 | E20: 61 | F20: 30.5
B21: 南韓(Korea)-光州(Kwangju) | C21: 328 | D21: 229.6 | E21: 65.6 | F21: 32.8
B22: 南韓(Korea)-慶州(Kyongju) | C22: 317 | D22: 221.9 | E22: 63.4 | F22: 31.7
B23: 南韓(Korea)-首爾(Seoul) | C23: 302 | D23: 211.4 | E23: 60.4 | F23: 30.2
B24: 南韓(Korea)-麗水(Yeosu) | C24: 288 | D24: 201.6 | E24: 57.6 | F24: 28.8
B25: 南韓(Korea)-其他(Other) | C25: 272 | D25: 190.4 | E25: 54.4 | F25: 27.2
B26: 蒙古(Mongolia)
B27: 蒙古(Mongolia)-烏蘭巴托(Ulaanbaatar) | C27: 180 | D27: 126 | E27: 36 | F27: 18
B28: 蒙古(Mongolia)-其他(Other) | C28: 100 | D28: 70 | E28: 20 | F28: 10
B29: 菲律賓(Philippines)
B30: 菲律賓(Philippines)-碧瑤( Baguio) | C30: 190 | D30: 133 | E30: 38 | F30: 19
B31: 菲律賓(Philippines)-宿霧(Cebu) | C31: 231 | D31: 161.7 | E31: 46.2 | F31: 23.1
B32: 菲律賓(Philippines)-納卯(Davao) | C32: 224 | D32: 156.8 | E32: 44.8 | F32: 22.4
B33: 菲律賓(Philippines)-大馬尼拉都會區(Metro Manila) | C33: 315 | D33: 220.5 | E33: 63 | F33: 31.5
B34: 菲律賓(Philippines)-巴丹(Bataan) | C34: 206 | D34: 144.2 | E34: 41.2 | F34: 20.6
B35: 菲律賓(Philippines)-克拉克(Clark, Pampanga) | C35: 274 | D35: 191.8 | E35: 54.8 | F35: 27.4
B36: 菲律賓(Philippines)-大雅台(Tagaytay) | C36: 227 | D36: 158.9 | E36: 45.4 | F36: 22.7
B37: 菲律賓(Philippines)-其他(Other) | C37: 168 | D37: 117.6 | E37: 33.6 | F37: 16.8
B38: 密克羅尼西亞(Micronesia)
B39: 密克羅尼西亞(Micronesia)-恰克(Chuuk) | C39: 225 | D39: 157.5 | E39: 45 | F39: 22.5
B40: 密克羅尼西亞(Micronesia)-波納佩(Pohnpei) | C40: 223 | D40: 156.1 | E40: 44.6 | F40: 22.3
B41: 密克羅尼西亞(Micronesia)-雅浦(Yap) | C41: 262 | D41: 183.4 | E41: 52.4 | F41: 26.2
B42: 薩摩亞(Samoa) | C42: 163 | D42: 114.1 | E42: 32.6 | F42: 16.3
B43: 汶萊(Brunei) | C43: 195 | D43: 136.5 | E43: 39 | F43: 19.5
B44: 泰國(Thailand)
B45: 泰國(Thailand)-曼谷(Bangkok) | C45: 271 | D45: 189.7 | E45: 54.2 | F45: 27.1
B46: 泰國(Thailand)-清邁(Chiang Mai) | C46: 170 | D46: 119 | E46: 34 | F46: 17
B47: 泰國(Thailand)-華欣(Hua Hin) | C47: 231 | D47: 161.7 | E47: 46.2 | F47: 23.1
B48: 泰國(Thailand)-芭達雅(Pattaya) | C48: 164 | D48: 114.8 | E48: 32.8 | F48: 16.4
B49: 泰國(Thailand)-普吉(Phuket) | C49: 341 | D49: 238.7 | E49: 68.2 | F49: 34.1
B50: 泰國(Thailand)-羅勇(Rayong) | C50: 183 | D50: 128.1 | E50: 36.6 | F50: 18.3
B51: 泰國(Thailand)-蘇梅島(Samui Island) | C51: 138 | D51: 96.6 | E51: 27.6 | F51: 13.8
B52: 泰國(Thailand)-其他(Other) | C52: 100 | D52: 70 | E52: 20 | F52: 10
B53: 馬來西亞(Malaysia)
B54: 馬來西亞(Malaysia)-沙巴(Kota Kinabalu Sabah) | C54: 209 | D54: 146.3 | E54: 41.8 | F54: 20.9
B55: 馬來西亞(Malaysia)-吉隆坡(Kuala Lumpur) | C55: 246 | D55: 172.2 | E55: 49.2 | F55: 24.6
B56: 馬來西亞(Malaysia)- | C56: 230 | D56: 161 | E56: 46 | F56: 23
B57: 馬來西亞(Malaysia)-布城(Putrajaya) | C57: 246 | D57: 172.2 | E57: 49.2 | F57: 24.6
B58: 馬來西亞(Malaysia)-其他(Other) | C58: 193 | D58: 135.1 | E58: 38.6 | F58: 19.3
B59: 新加坡(Singapore) | C59: 445 | D59: 311.5 | E59: 89 | F59: 44.5
B60: 印尼(Indonesia)
B61: 印尼(Indonesia)-巴里島(Bali Island) | C61: 272 | D61: 190.4 | E61: 54.4 | F61: 27.2
B62: 印尼(Indonesia)-萬隆(Bandung) | C62: 136 | D62: 95.2 | E62: 27.2 | F62: 13.6
B63: 印尼(Indonesia)-茂物(Bogor City) | C63: 135 | D63: 94.5 | E63: 27 | F63: 13.5
B64: 印尼(Indonesia)-雅加達(Jakarta) | C64: 222 | D64: 155.4 | E64: 44.4 | F64: 22.2
B65: 印尼(Indonesia)-棉蘭(Medan) | C65: 130 | D65: 91 | E65: 26 | F65: 13
B66: 印尼(Indonesia)-泗水(Surabaya) | C66: 143 | D66: 100.1 | E66: 28.6 | F66: 14.3
B67: 印尼(Indonesia)-日惹(Yogyakarta) | C67: 159 | D67: 111.3 | E67: 31.8 | F67: 15.9
B68: 印尼(Indonesia)-其他(Other) | C68: 118 | D68: 82.6 | E68: 23.6 | F68: 11.8
B69: 緬甸(Burma)
B70: 緬甸(Burma)-仰光(Rangoon) | C70: 206 | D70: 144.2 | E70: 41.2 | F70: 20.6
B71: 緬甸(Burma)-內比都(Naypyitaw) | C71: 145 | D71: 101.5 | E71: 29 | F71: 14.5
B72: 緬甸(Burma)-曼德勒(Mandalay) | C72: 184 | D72: 128.8 | E72: 36.8 | F72: 18.4
B73: 緬甸(Burma)-羌達(Chaung Tha) | C73: 114 | D73: 79.8 | E73: 22.8 | F73: 11.4
B74: 緬甸(Burma)-內維桑(Ngwe Saung) | C74: 119 | D74: 83.3 | E74: 23.8 | F74: 11.9
B75: 緬甸(Burma)-葡萄(Putao) | C75: 141 | D75: 98.7 | E75: 28.2 | F75: 14.1
B76: 緬甸(Burma)-額不里(Ngapali ) | C76: 146 | D76: 102.2 | E76: 29.2 | F76: 14.6
B77: 緬甸(Burma)-其他(Other) | C77: 100 | D77: 70 | E77: 20 | F77: 10
B78: 印度(India)
B79: 印度(India)-邦加羅爾(Bangalore) | C79: 260 | D79: 182 | E79: 52 | F79: 26
B80: 印度(India)-加爾各答(Kolkata) | C80: 191 | D80: 133.7 | E80: 38.2 | F80: 19.1
B81: 印度(India)-清奈(Chennai) | C81: 217 | D81: 151.9 | E81: 43.4 | F81: 21.7
B82: 印度(India)-果阿(Goa) | C82: 261 | D82: 182.7 | E82: 52.2 | F82: 26.1
B83: 印度(India)-海得拉巴(Hyderabad) | C83: 229 | D83: 160.3 | E83: 45.8 | F83: 22.9
B84: 印度(India)-孟買(Mumbai) | C84: 272 | D84: 190.4 | E84: 54.4 | F84: 27.2
B85: 印度(India)-新德里(New Delhi)
B86: 印度(India)-德里國家首都轄區(National Capital Territory of Delhi, NCT)/國家首都區 (National Capital Region, NCR)(04/01-08/31) | C86: 237 | D86: 165.9 | E86: 47.4 | F86: 23.7
B87: 印度(India)-德里國家首都轄區(National Capital Territory of Delhi, NCT)/國家首都區 (National Capital Region, NCR)(09/01-03/31) | C87: 271 | D87: 189.7 | E87: 54.2 | F87: 27.1
B88: 印度(India)-浦內(Pune) | C88: 194 | D88: 135.8 | E88: 38.8 | F88: 19.4
B89: 印度(India)-其他(Other) | C89: 163 | D89: 114.1 | E89: 32.6 | F89: 16.3
B90: 斯里蘭卡(Sri Lanka)
B91: 斯里蘭卡(Sri Lanka)-可倫坡(Colombo) | C91: 192 | D91: 134.4 | E91: 38.4 | F91: 19.2
B92: 斯里蘭卡(Sri Lanka)-其他(Other) | C92: 102 | D92: 71.4 | E92: 20.4 | F92: 10.2
B93: 不丹(Bhutan)
B94: 不丹(Bhutan)-亭布(Thimphu) | C94: 125 | D94: 87.5 | E94: 25 | F94: 12.5
B95: 不丹(Bhutan)-其他(Other) | C95: 100 | D95: 70 | E95: 20 | F95: 10
B96: 尼泊爾(Nepal)
B97: 尼泊爾(Nepal)-加德滿都(Kathmandu) | C97: 187 | D97: 130.9 | E97: 37.4 | F97: 18.7
B98: 尼泊爾(Nepal)-波卡拉(Pokhara) | C98: 127 | D98: 88.9 | E98: 25.4 | F98: 12.7
B99: 尼泊爾(Nepal)-其他(Other) | C99: 100 | D99: 70 | E99: 20 | F99: 10
B100: 澳大利亞(Australia)
B101: 澳大利亞(Australia)-坎培拉(Canberra) | C101: 340 | D101: 238 | E101: 68 | F101: 34
...
